BEGIN:VCALENDAR
VERSION:2.0
PRODID:-//New Wave Church - ECPv6.10.2//NONSGML v1.0//EN
CALSCALE:GREGORIAN
METHOD:PUBLISH
X-WR-CALNAME:New Wave Church
X-ORIGINAL-URL:https://www.newwavechurch.org
X-WR-CALDESC:Events for New Wave Church
REFRESH-INTERVAL;VALUE=DURATION:PT1H
X-Robots-Tag:noindex
X-PUBLISHED-TTL:PT1H
BEGIN:VTIMEZONE
TZID:America/New_York
BEGIN:DAYLIGHT
TZOFFSETFROM:-0500
TZOFFSETTO:-0400
TZNAME:EDT
DTSTART:20260308T070000
END:DAYLIGHT
BEGIN:STANDARD
TZOFFSETFROM:-0400
TZOFFSETTO:-0500
TZNAME:EST
DTSTART:20261101T060000
END:STANDARD
END:VTIMEZONE
BEGIN:VEVENT
DTSTART;TZID=America/New_York:20260128T180000
DTEND;TZID=America/New_York:20260128T193000
DTSTAMP:20260424T113104
CREATED:20260127T004208Z
LAST-MODIFIED:20260127T012825Z
UID:527-1769623200-1769628600@www.newwavechurch.org
SUMMARY:Men's get together
DESCRIPTION:Come join us as we continue SECRETS of the SECRET PLACE
URL:https://www.newwavechurch.org/calendar/mens-get-together/
LOCATION:Wendy’s\, 31044 Cortez Blvd.\, Brooksville\, Florida\, 34602
END:VEVENT
BEGIN:VEVENT
DTSTART;TZID=America/New_York:20260130T183000
DTEND;TZID=America/New_York:20260130T203000
DTSTAMP:20260424T113104
CREATED:20260127T004427Z
LAST-MODIFIED:20260127T012216Z
UID:530-1769797800-1769805000@www.newwavechurch.org
SUMMARY:Redemption Youth
DESCRIPTION:
URL:https://www.newwavechurch.org/calendar/redemption-youth-15/
LOCATION:New Wave Church\, 34275 Cortez Blvd.\, Ridge Manor\, FL\, 33523\, United States
END:VEVENT
BEGIN:VEVENT
DTSTART;TZID=America/New_York:20260131T100000
DTEND;TZID=America/New_York:20260131T120000
DTSTAMP:20260424T113104
CREATED:20260127T005334Z
LAST-MODIFIED:20260127T020636Z
UID:532-1769853600-1769860800@www.newwavechurch.org
SUMMARY:Impact Nation Community Outreach
DESCRIPTION:
URL:https://www.newwavechurch.org/calendar/community-outreach/
LOCATION:Hibiscus Park\, 7th Street and Bougainvillea Avenue\, Dade City\, Florida\, 33525
END:VEVENT
END:VCALENDAR