BEGIN:VCALENDAR
VERSION:2.0
PRODID:-//New Wave Church - ECPv6.10.2//NONSGML v1.0//EN
CALSCALE:GREGORIAN
METHOD:PUBLISH
X-WR-CALNAME:New Wave Church
X-ORIGINAL-URL:https://www.newwavechurch.org
X-WR-CALDESC:Events for New Wave Church
REFRESH-INTERVAL;VALUE=DURATION:PT1H
X-Robots-Tag:noindex
X-PUBLISHED-TTL:PT1H
BEGIN:VTIMEZONE
TZID:America/New_York
BEGIN:DAYLIGHT
TZOFFSETFROM:-0500
TZOFFSETTO:-0400
TZNAME:EDT
DTSTART:20260308T070000
END:DAYLIGHT
BEGIN:STANDARD
TZOFFSETFROM:-0400
TZOFFSETTO:-0500
TZNAME:EST
DTSTART:20261101T060000
END:STANDARD
END:VTIMEZONE
BEGIN:VEVENT
DTSTART;TZID=America/New_York:20260502T080000
DTEND;TZID=America/New_York:20260502T130000
DTSTAMP:20260424T093829
CREATED:20260127T021853Z
LAST-MODIFIED:20260202T155728Z
UID:620-1777708800-1777726800@www.newwavechurch.org
SUMMARY:Mother's Day Fishing Trip
DESCRIPTION:Hubbards Marina\n170 Johns Pass Boardwalk\nMadeira Beach\, FL 33708
URL:https://www.newwavechurch.org/calendar/mothers-day-fishing-trip/
LOCATION:Florida
END:VEVENT
END:VCALENDAR