BEGIN:VCALENDAR
VERSION:2.0
PRODID:-//New Wave Church - ECPv6.10.2//NONSGML v1.0//EN
CALSCALE:GREGORIAN
METHOD:PUBLISH
X-WR-CALNAME:New Wave Church
X-ORIGINAL-URL:https://www.newwavechurch.org
X-WR-CALDESC:Events for New Wave Church
REFRESH-INTERVAL;VALUE=DURATION:PT1H
X-Robots-Tag:noindex
X-PUBLISHED-TTL:PT1H
BEGIN:VTIMEZONE
TZID:America/New_York
BEGIN:DAYLIGHT
TZOFFSETFROM:-0500
TZOFFSETTO:-0400
TZNAME:EDT
DTSTART:20260308T070000
END:DAYLIGHT
BEGIN:STANDARD
TZOFFSETFROM:-0400
TZOFFSETTO:-0500
TZNAME:EST
DTSTART:20261101T060000
END:STANDARD
END:VTIMEZONE
BEGIN:VEVENT
DTSTART;TZID=America/New_York:20261016T160000
DTEND;TZID=America/New_York:20261018T100000
DTSTAMP:20260424T113859
CREATED:20260202T160720Z
LAST-MODIFIED:20260202T160720Z
UID:639-1792166400-1792317600@www.newwavechurch.org
SUMMARY:Men's Conference 2026
DESCRIPTION:$184.00 per person includes hotel\, food and drinks. \nIf you would like to attend please contact Pastor Michelle Peach.\nMore information will be provided as we get closer to the event.
URL:https://www.newwavechurch.org/calendar/mens-conference-2026/
LOCATION:Lake Yale Baptist Conference Center\, 39034 County Rd. 452\, Leesburg\, Florida\, 34788
END:VEVENT
END:VCALENDAR